Felt | Verdi |
AlreadyApplied | True |
Aperture | 2.8 |
ApertureValue | 2.8 |
BitsPerSample | 8 |
BlueHue | -62 |
BlueSaturation | -100 |
Brightness | +32 |
CameraProfile | Adobe Standard |
ChromaticAberrationB | 0 |
ChromaticAberrationR | 0 |
CircleOfConfusion | 0.019 mm |
Clarity | +1 |
ColorComponents | 3 |
ColorNoiseReduction | 25 |
ColorNoiseReductionDetail | 50 |
ColorTemperature | 3786 |
Contrast | +62 |
ConvertToGrayscale | False |
CreateDate (1) | 2012:08:04 22:17:50.00+02:00 |
CreateDate | 2012:08:04 22:17:50 |
CreatorTool | Adobe Photoshop Lightroom |
CropAngle | 0 |
CropBottom | 0.922679 |
CropConstrainToWarp | 0 |
CropHeight | 2308 |
CropLeft | 0.03995 |
CropRight | 0.980025 |
CropTop | 0.254731 |
CropUnit | pixels |
CropWidth | 4873 |
CustomRendered | Normal |
DateTimeDigitized | 2012:08:04 22:17:50.00+02:00 |
DateTimeOriginal (1) | 2012:08:04 22:17:50.00+02:00 |
DateTimeOriginal | 2012:08:04 22:17:50 |
Defringe | 2 |
DOF | 1.47 m (2.64 - 4.12 m) |
ExifImageHeight | 2308 |
ExifImageWidth | 4873 |
Exposure | +0.70 |
ExposureCompensation | 0 |
ExposureMode | Manual |
ExposureProgram | Manual |
ExposureTime | 1/10 |
FillLight | 51 |
Firmware | 1.2.5 |
Flash | Off, Did not fire |
FlashCompensation | 0 |
FlashFired | False |
FlashFunction | False |
FlashMode | Off |
FlashRedEyeMode | False |
FlashReturn | No return detection |
FNumber | 2.8 |
FocalLength | 28.0 mm |
FocalLength35efl | 28.0 mm (35 mm equivalent: 44.0 mm) |
FOV | 44.5 deg |
GrainAmount | 0 |
GreenHue | -62 |
GreenSaturation | -33 |
HasCrop | True |
HasSettings | True |
HighlightRecovery | 33 |
HueAdjustmentAqua | 0 |
HueAdjustmentBlue | 0 |
HueAdjustmentGreen | +1 |
HueAdjustmentMagenta | 0 |
HueAdjustmentOrange | +5 |
HueAdjustmentPurple | 0 |
HueAdjustmentRed | -2 |
HueAdjustmentYellow | +5 |
HyperfocalDistance | 14.63 m |
ImageHeight | 2308 |
ImageNumber | 0 |
ImageSize | 4873x2308 |
ImageWidth | 4873 |
ISO | 500 |
Lens | EF28mm f/1.8 USM |
LensID (1) | 168 |
LensID | Canon EF 28mm f/1.8 USM |
LensInfo | 28mm f/? |
LensManualDistortionAmount | 0 |
LensProfileEnable | 0 |
LensProfileSetup | LensDefaults |
LightValue | 4.0 |
LuminanceAdjustmentAqua | 0 |
LuminanceAdjustmentBlue | 0 |
LuminanceAdjustmentGreen | 0 |
LuminanceAdjustmentMagenta | 0 |
LuminanceAdjustmentOrange | 0 |
LuminanceAdjustmentPurple | 0 |
LuminanceAdjustmentRed | +2 |
LuminanceAdjustmentYellow | 0 |
LuminanceSmoothing | 0 |
Make | Canon |
MaxApertureValue | 1.8 |
Megapixels | 11.2 |
MeteringMode | Multi-segment |
Model | Canon EOS 7D |
ModifyDate (1) | 2012:08:05 21:05:33+02:00 |
ModifyDate | 2012:08:05 21:05:33 |
PaintCorrectionActive | true |
PaintCorrectionAmount | 1.000000 |
PaintCorrectionBrightness | 0.000000 |
PaintCorrectionClarity | 0.000000 |
PaintCorrectionContrast | 0.000000 |
PaintCorrectionExposure (1) | -0.146000 |
PaintCorrectionExposure (3) | 0.220000 |
PaintCorrectionExposure (5) | -0.293000 |
PaintCorrectionExposure (6) | 0.341000 |
PaintCorrectionExposure | 0.293000 |
PaintCorrectionHue | 240.000000 |
PaintCorrectionMaskCenterWeight | 0.086542 |
PaintCorrectionMaskFlow | 1.000000 |
PaintCorrectionMaskRadius (40) | 0.075887 |
PaintCorrectionMaskRadius (49) | 0.032955 |
PaintCorrectionMaskRadius (56) | 0.010115 |
PaintCorrectionMaskRadius | 0.015353 |
PaintCorrectionMaskValue | 1.000000 |
PaintCorrectionMaskWhat | Mask/Paint |
PaintCorrectionSaturation | 0.000000 |
PaintCorrectionSharpness | 0.000000 |
PaintCorrectionWhat | Correction |
ParametricDarks | -2 |
ParametricHighlights | +21 |
ParametricHighlightSplit | 75 |
ParametricLights | -7 |
ParametricMidtoneSplit | 50 |
ParametricShadows | -20 |
ParametricShadowSplit | 25 |
PerspectiveHorizontal | 0 |
PerspectiveRotate | 0.0 |
PerspectiveScale | 100 |
PerspectiveVertical | 0 |
PostCropVignetteAmount | 0 |
ProcessVersion | 5.7 |
ProfileDescription | Adobe RGB (1998) |
RedHue | +100 |
RedSaturation | +45 |
Saturation | +20 |
SaturationAdjustmentAqua | 0 |
SaturationAdjustmentBlue | 0 |
SaturationAdjustmentGreen | 0 |
SaturationAdjustmentMagenta | +2 |
SaturationAdjustmentOrange | 0 |
SaturationAdjustmentPurple | 0 |
SaturationAdjustmentRed | 0 |
SaturationAdjustmentYellow | -83 |
ScaleFactor35efl | 1.6 |
SceneCaptureType | Standard |
SerialNumber | 3081216446 |
Shadows | 26 |
ShadowTint | +100 |
SharpenDetail | 25 |
SharpenEdgeMasking | 0 |
SharpenRadius | +1.0 |
Sharpness | 25 |
ShutterSpeed | 1/10 |
ShutterSpeedValue | 1/10 |
SplitToningBalance | +26 |
SplitToningHighlightHue | 51 |
SplitToningHighlightSaturation | 49 |
SplitToningShadowHue | 9 |
SplitToningShadowSaturation | 61 |
SubjectDistance | 3.22 m |
Tint | -57 |
ToneCurve | 0, 0, 255, 255 |
ToneCurveName | Linear |
Version | 6.1 |
Vibrance | -15 |
VignetteAmount | +26 |
VignetteMidpoint | 48 |
WhiteBalance (2) | Custom |
WhiteBalance | Auto |