Felt | Verdi |
AlreadyApplied | True |
Aperture | 11.0 |
ApertureValue | 11.0 |
Artist | Thorbjoern Aspaas |
BitsPerSample | 8 |
BlueHue | 0 |
BlueSaturation | 0 |
Brightness | +64 |
By-line | Thorbjoern Aspaas |
CameraProfile | Adobe Standard |
CFAPattern | [Red,Green][Green,Blue] |
ChromaticAberrationB | 0 |
ChromaticAberrationR | 0 |
CircleOfConfusion | 0.020 mm |
Clarity | +29 |
ColorComponents | 3 |
ColorMode | RGB |
ColorNoiseReduction | 25 |
ColorSpace | sRGB |
ColorTemperature | 5400 |
Contrast (2) | +25 |
Contrast | Normal |
ConvertToGrayscale | False |
Copyright | Thorbjoern Aspaas |
CopyrightNotice | Thorbjoern Aspaas |
CreateDate (1) | 2011:04:03 00:08:39.08+02:00 |
CreateDate | 2011:04:03 00:08:39 |
Creator | Thorbjoern Aspaas |
CreatorTool | Ver.1.10 |
CropAngle | -14.5167 |
CropBottom | 0.719503 |
CropLeft | 0.064228 |
CropRight | 0.907468 |
CropTop | 0.280497 |
CustomRendered | Normal |
DateTimeDigitized | 2011:04:03 00:08:39.08+02:00 |
DateTimeOriginal (1) | 2011:04:02 22:08:39Z |
DateTimeOriginal | 2011:04:02 22:08:39 |
Defringe | 0 |
DigitalZoomRatio | 1 |
ExifImageHeight | 2049 |
ExifImageWidth | 3187 |
Exposure | 0.00 |
ExposureCompensation | 0 |
ExposureMode | Auto |
ExposureProgram | Aperture-priority AE |
ExposureTime | 1/60 |
FillLight | 8 |
Flash | On, Return detected |
FlashFired | True |
FlashFunction | False |
FlashMode | On |
FlashRedEyeMode | False |
FlashReturn | Return detected |
FNumber | 11.0 |
FocalLength | 210.0 mm |
FocalLength35efl | 210.0 mm (35 mm equivalent: 315.0 mm) |
FocalLengthIn35mmFormat | 315 mm |
Format | image/jpeg |
FOV | 6.5 deg |
GainControl | None |
GreenHue | 0 |
GreenSaturation | 0 |
HasCrop | True |
HasSettings | True |
HighlightRecovery | 0 |
HueAdjustmentAqua | 0 |
HueAdjustmentBlue | 0 |
HueAdjustmentGreen | 0 |
HueAdjustmentMagenta | 0 |
HueAdjustmentOrange | 0 |
HueAdjustmentPurple | 0 |
HueAdjustmentRed | 0 |
HueAdjustmentYellow | 0 |
HyperfocalDistance | 200.15 m |
ICCProfileName | sRGB IEC61966-2.1 |
ImageHeight | 2049 |
ImageNumber | 50385 |
ImageSize | 3187x2049 |
ImageWidth | 3187 |
ISO | 200 |
Lens | 150.0 mm f/2.8 |
LensInfo | 150mm f/2.8 |
LightSource | Unknown |
LightValue | 11.8 |
LuminanceAdjustmentAqua | 0 |
LuminanceAdjustmentBlue | 0 |
LuminanceAdjustmentGreen | 0 |
LuminanceAdjustmentMagenta | 0 |
LuminanceAdjustmentOrange | 0 |
LuminanceAdjustmentPurple | 0 |
LuminanceAdjustmentRed | 0 |
LuminanceAdjustmentYellow | 0 |
LuminanceSmoothing | 0 |
Make | NIKON CORPORATION |
MaxApertureValue | 5.9 |
Megapixels | 6.5 |
MeteringMode | Multi-segment |
Model | NIKON D300 |
ModifyDate (1) | 2011:04:03 00:36:45+02:00 |
ModifyDate | 2011:04:03 00:36:45 |
Orientation | Horizontal (normal) |
ParametricDarks | 0 |
ParametricHighlights | 0 |
ParametricHighlightSplit | 75 |
ParametricLights | 0 |
ParametricMidtoneSplit | 50 |
ParametricShadows | 0 |
ParametricShadowSplit | 25 |
PostCropVignetteAmount | 0 |
ProfileDescription | sRGB IEC61966-2.1 |
Rating | 0 |
RawFileName | DSC_9205.NEF |
RedHue | 0 |
RedSaturation | 0 |
Rights | Thorbjoern Aspaas |
Saturation (2) | +16 |
Saturation | Normal |
SaturationAdjustmentAqua | 0 |
SaturationAdjustmentBlue | 0 |
SaturationAdjustmentGreen | 0 |
SaturationAdjustmentMagenta | 0 |
SaturationAdjustmentOrange | 0 |
SaturationAdjustmentPurple | 0 |
SaturationAdjustmentRed | 0 |
SaturationAdjustmentYellow | 0 |
ScaleFactor35efl | 1.5 |
SceneCaptureType | Standard |
SceneType | Directly photographed |
SensingMethod | One-chip color area |
SerialNumber | 4121817 |
Shadows | 5 |
ShadowTint | 0 |
SharpenDetail | 25 |
SharpenEdgeMasking | 0 |
SharpenRadius | +1.0 |
Sharpness (2) | 25 |
Sharpness | Normal |
ShutterSpeed | 1/60 |
ShutterSpeedValue | 1/60 |
SidecarForExtension | NEF |
Software | Adobe Photoshop Elements 8.0 Windows |
SplitToningBalance | 0 |
SplitToningHighlightHue | 0 |
SplitToningHighlightSaturation | 0 |
SplitToningShadowHue | 0 |
SplitToningShadowSaturation | 0 |
SubjectDistanceRange | Unknown |
Tint | -1 |
ToneCurve | 0, 0, 32, 22, 64, 56, 128, 128, 192, 196, 255, 255 |
ToneCurveName | Medium Contrast |
URL_List | |
Version | 5.5 |
Vibrance | +43 |
VignetteAmount | 0 |
WhiteBalance (2) | As Shot |
WhiteBalance | Auto |