Felt | Verdi |
AlreadyApplied | True |
BitsPerSample | 8 |
BlueHue | 0 |
BlueSaturation | 0 |
Brightness | 0 |
CameraProfile | Embedded |
ChromaticAberrationB | 0 |
ChromaticAberrationR | 0 |
Clarity | +100 |
ColorComponents | 1 |
ColorNoiseReduction | 0 |
Contrast | +75 |
ConvertToGrayscale | True |
CreatorTool | Adobe Photoshop Lightroom |
CropAngle | 0 |
CropBottom | 0.941176 |
CropHeight | 2602 |
CropLeft | 0.036697 |
CropRight | 0.949541 |
CropTop | 0.034602 |
CropUnit | pixels |
CropWidth | 3954 |
Defringe | 0 |
ExifImageHeight | 2602 |
ExifImageWidth | 3954 |
Exposure | -0.67 |
FillLight | 40 |
GrayMixerAqua | -18 |
GrayMixerBlue | +8 |
GrayMixerGreen | -26 |
GrayMixerMagenta | +4 |
GrayMixerOrange | -18 |
GrayMixerPurple | +15 |
GrayMixerRed | -9 |
GrayMixerYellow | -22 |
GreenHue | 0 |
GreenSaturation | 0 |
HasCrop | True |
HasSettings | True |
HighlightRecovery | 89 |
ImageHeight | 2602 |
ImageSize | 3954x2602 |
ImageWidth | 3954 |
IncrementalTemperature | 0 |
IncrementalTint | 0 |
LuminanceSmoothing | 0 |
Make | Nikon |
Megapixels | 10.3 |
Model | Nikon COOLSCAN IV ED |
ModifyDate (1) | 2010:11:19 14:34:58+01:00 |
ModifyDate | 2010:11:19 14:34:58 |
ParametricDarks | 0 |
ParametricHighlights | 0 |
ParametricHighlightSplit | 75 |
ParametricLights | -33 |
ParametricMidtoneSplit | 50 |
ParametricShadows | 0 |
ParametricShadowSplit | 25 |
PostCropVignetteAmount | 0 |
ProfileDescription | sRGB IEC61966-2.1 |
RedHue | 0 |
RedSaturation | 0 |
Shadows | 36 |
ShadowTint | 0 |
SharpenDetail | 25 |
SharpenEdgeMasking | 0 |
SharpenRadius | +1.0 |
Sharpness | 0 |
Software | Nikon Scan 4.0.0 W |
SplitToningBalance | 0 |
SplitToningHighlightHue | 0 |
SplitToningHighlightSaturation | 0 |
SplitToningShadowHue | 0 |
SplitToningShadowSaturation | 0 |
ToneCurve | 0, 0, 255, 255 |
ToneCurveName | Linear |
Version | 5.7 |
VignetteAmount | 0 |
WhiteBalance | As Shot |