Felt | Verdi |
AlreadyApplied | True |
Aperture | 29.0 |
ApertureValue | 29.0 |
Artist | unknown |
BitsPerSample | 8 |
BlueHue | 0 |
BlueSaturation | 0 |
Brightness | +26 |
By-line | unknown |
CameraProfile | Camera Landscape |
ChromaticAberrationB | 0 |
ChromaticAberrationR | 0 |
CircleOfConfusion | 0.019 mm |
Clarity | +61 |
ColorComponents | 3 |
ColorMode | RGB |
ColorNoiseReduction | 38 |
ColorNoiseReductionDetail | 50 |
ColorSpace | Uncalibrated |
ColorTemperature | 7400 |
Contrast | +36 |
ConvertToGrayscale | False |
CreateDate (1) | 2010:07:24 21:13:32+02:00 |
CreateDate | 2010:07:24 21:13:32 |
Creator | unknown |
CustomRendered | Normal |
DateCreated (1) | 2010:07:24 |
DateCreated | 2010:07:24 21:13:32 |
DateTimeOriginal | 2010:07:24 21:13:32 |
Defringe | 2 |
ExifImageHeight | 2592 |
ExifImageWidth | 3888 |
Exposure | +0.95 |
ExposureCompensation | 0 |
ExposureMode | Manual |
ExposureProgram | Manual |
ExposureTime | 13 |
FillLight | 13 |
Firmware | 1.1.1 |
Flash | Off, Did not fire |
FlashCompensation | 0 |
FNumber | 29.0 |
FocalLength | 33.0 mm |
FocalLength35efl | 33.0 mm (35 mm equivalent: 53.4 mm) |
Format | image/jpeg |
FOV | 37.3 deg |
GrainAmount | 0 |
GreenHue | 0 |
GreenSaturation | 0 |
HasCrop | False |
HasSettings | True |
HighlightRecovery | 83 |
HueAdjustmentAqua | 0 |
HueAdjustmentBlue | 0 |
HueAdjustmentGreen | +27 |
HueAdjustmentMagenta | 0 |
HueAdjustmentOrange | 0 |
HueAdjustmentPurple | 0 |
HueAdjustmentRed | 0 |
HueAdjustmentYellow | 0 |
HyperfocalDistance | 2.02 m |
ICCProfileName | Adobe RGB (1998) |
ImageHeight | 2592 |
ImageNumber | 48 |
ImageSize | 3888x2592 |
ImageWidth | 3888 |
ISO | 100 |
Lens | EF-S18-55mm f/3.5-5.6 |
LensID (1) | 45 |
LensID | Canon EF-S 18-55mm f/3.5-5.6 [II] |
LensInfo | 18-55mm f/? |
LightValue | 6.0 |
LuminanceAdjustmentAqua | 0 |
LuminanceAdjustmentBlue | 0 |
LuminanceAdjustmentGreen | 0 |
LuminanceAdjustmentMagenta | 0 |
LuminanceAdjustmentOrange | 0 |
LuminanceAdjustmentPurple | 0 |
LuminanceAdjustmentRed | 0 |
LuminanceAdjustmentYellow | 0 |
LuminanceSmoothing | 0 |
Make | Canon |
MaxApertureValue | 4.0 |
Megapixels | 10.1 |
MeteringMode | Average |
Model | Canon EOS 400D DIGITAL |
ModifyDate (1) | 2010:08:26 18:09:02+02:00 |
ModifyDate | 2010:08:26 18:09:02 |
Orientation | Horizontal (normal) |
OwnerName | unknown |
PaintCorrectionActive | true |
PaintCorrectionAmount | 1.000000 |
PaintCorrectionBrightness (2) | 0.000000 |
PaintCorrectionBrightness (3) | 0.675000 |
PaintCorrectionBrightness (4) | 0.430000 |
PaintCorrectionBrightness | 0.115000 |
PaintCorrectionClarity (1) | 0.300000 |
PaintCorrectionClarity (2) | -0.030000 |
PaintCorrectionClarity (3) | -0.010000 |
PaintCorrectionClarity | -0.130000 |
PaintCorrectionContrast (1) | 0.580000 |
PaintCorrectionContrast (2) | -0.090000 |
PaintCorrectionContrast (3) | -1.000000 |
PaintCorrectionContrast | -0.850000 |
PaintCorrectionExposure (1) | 0.000000 |
PaintCorrectionExposure (4) | 0.250000 |
PaintCorrectionExposure | -0.137500 |
PaintCorrectionHue (1) | 178.000000 |
PaintCorrectionHue (2) | 202.000000 |
PaintCorrectionHue | 55.000000 |
PaintCorrectionMaskCenterWeight | 0.115514 |
PaintCorrectionMaskFlow | 0.867470 |
PaintCorrectionMaskRadius (3) | 0.052218 |
PaintCorrectionMaskRadius (8) | 0.015301 |
PaintCorrectionMaskRadius | 0.153742 |
PaintCorrectionMaskValue | 0.330000 |
PaintCorrectionMaskWhat | Mask/Paint |
PaintCorrectionSaturation (1) | 0.130000 |
PaintCorrectionSaturation (2) | 0.750000 |
PaintCorrectionSaturation (3) | -0.030000 |
PaintCorrectionSaturation (4) | 0.810000 |
PaintCorrectionSaturation (9) | -0.290000 |
PaintCorrectionSaturation | 0.100000 |
PaintCorrectionSharpness (1) | -0.920000 |
PaintCorrectionSharpness (2) | -0.030000 |
PaintCorrectionSharpness (4) | 0.460000 |
PaintCorrectionSharpness | -0.100000 |
PaintCorrectionWhat | Correction |
ParametricDarks | +28 |
ParametricHighlights | +76 |
ParametricHighlightSplit | 75 |
ParametricLights | -31 |
ParametricMidtoneSplit | 50 |
ParametricShadows | +9 |
ParametricShadowSplit | 25 |
PostCropVignetteAmount | -100 |
PostCropVignetteFeather | 0 |
PostCropVignetteHighlightContrast | 0 |
PostCropVignetteMidpoint | 0 |
PostCropVignetteRoundness | -100 |
PostCropVignetteStyle | 1 |
ProcessVersion | 5.7 |
ProfileDescription | Adobe RGB (1998) |
Rating | 0 |
RawFileName | _MG_4099.CR2 |
RedHue | 0 |
RedSaturation | 0 |
Saturation | +23 |
SaturationAdjustmentAqua | 0 |
SaturationAdjustmentBlue | 0 |
SaturationAdjustmentGreen | 0 |
SaturationAdjustmentMagenta | 0 |
SaturationAdjustmentOrange | 0 |
SaturationAdjustmentPurple | 0 |
SaturationAdjustmentRed | 0 |
SaturationAdjustmentYellow | 0 |
ScaleFactor35efl | 1.6 |
SceneCaptureType | Standard |
SerialNumber | 1881154478 |
Shadows | 11 |
ShadowTint | -6 |
SharpenDetail | 0 |
SharpenEdgeMasking | 0 |
SharpenRadius | +0.5 |
Sharpness | 0 |
ShutterSpeed | 13 |
ShutterSpeedValue | 13 |
SidecarForExtension | CR2 |
Software | Adobe Photoshop CS5 Windows |
SplitToningBalance | 0 |
SplitToningHighlightHue | 0 |
SplitToningHighlightSaturation | 3 |
SplitToningShadowHue | 0 |
SplitToningShadowSaturation | 0 |
Tint | +10 |
ToneCurve | 0, 0, 32, 22, 64, 56, 128, 128, 192, 196, 255, 255 |
ToneCurveName | Medium Contrast |
URL_List | |
Version | 6.0 |
Vibrance | +55 |
VignetteAmount | 0 |
WhiteBalance (1) | Custom |
WhiteBalance | Auto |