Felt | Verdi |
AlreadyApplied | True |
Aperture | 2.8 |
ApertureValue | 2.8 |
BitsPerSample | 8 |
BlueHue | 0 |
BlueSaturation | 0 |
Brightness | +50 |
By-line | Johan Conradson |
CameraProfile | Camera Landscape |
Caption-Abstract | Copyright |
CFAPattern | [Red,Green][Green,Blue] |
ChromaticAberrationB | 0 |
ChromaticAberrationR | 0 |
CircleOfConfusion | 0.030 mm |
Clarity | +50 |
ColorComponents | 3 |
ColorNoiseReduction | 25 |
ColorTemperature | 5700 |
Contrast (2) | +29 |
Contrast | Normal |
ConvertToGrayscale | False |
Copyright | Johan Conradson |
CopyrightFlag | True |
CopyrightNotice | Johan Conradson |
CreateDate (1) | 2009:08:12 20:42:36.00+02:00 |
CreateDate | 2009:08:12 20:42:36 |
Creator | Johan Conradson |
CreatorAddress | Østreheimsveien 38 |
CreatorCity | Oslo |
CreatorCountry | Norway |
CreatorPostalCode | 0590 |
CreatorTool | Adobe Photoshop Lightroom |
CreatorWorkEmail | johanconradson@gmail.com |
CropAngle | 0 |
CropBottom | 1 |
CropHeight | 3000 |
CropLeft | 0.021579 |
CropRight | 0.686993 |
CropTop | 0 |
CropUnit | pixels |
CropWidth | 3000 |
CustomRendered | Normal |
DateTimeDigitized | 2009:08:12 20:42:36.00+02:00 |
DateTimeOriginal (1) | 2009:08:12 20:42:36.00+02:00 |
DateTimeOriginal | 2009:08:12 20:42:36 |
Defringe | 0 |
Description | Copyright |
DigitalZoomRatio | 1 |
ExifImageHeight | 3000 |
ExifImageWidth | 3000 |
Exposure | +0.29 |
ExposureCompensation | -7/3 |
ExposureMode | Auto |
ExposureProgram | Aperture-priority AE |
ExposureTime | 1/400 |
FillLight | 21 |
Flash | No Flash |
FlashFired | False |
FlashFunction | False |
FlashMode | Unknown |
FlashRedEyeMode | False |
FlashReturn | No return detection |
FNumber | 2.8 |
FocalLength | 60.0 mm |
FocalLength35efl | 60.0 mm (35 mm equivalent: 60.0 mm) |
FocalLengthIn35mmFormat | 60 mm |
FOV | 33.4 deg |
GainControl | None |
GreenHue | 0 |
GreenSaturation | 0 |
HasCrop | True |
HasSettings | True |
HierarchicalSubject | Sommer, Tuscany, ferie, italia |
HighlightRecovery | 33 |
HueAdjustmentAqua | 0 |
HueAdjustmentBlue | 0 |
HueAdjustmentGreen | 0 |
HueAdjustmentMagenta | 0 |
HueAdjustmentOrange | 0 |
HueAdjustmentPurple | 0 |
HueAdjustmentRed | -24 |
HueAdjustmentYellow | 0 |
HyperfocalDistance | 42.79 m |
ImageDescription | Copyright |
ImageHeight | 3000 |
ImageNumber | 1976 |
ImageSize | 3000x3000 |
ImageWidth | 3000 |
ISO | 250 |
Keywords | Sommer, Tuscany, ferie, italia |
Lens | 24.0-70.0 mm f/2.8 |
LensInfo | 24-70mm f/2.8 |
LightSource | Cloudy |
LightValue | 10.3 |
LuminanceAdjustmentAqua | 0 |
LuminanceAdjustmentBlue | 0 |
LuminanceAdjustmentGreen | 0 |
LuminanceAdjustmentMagenta | 0 |
LuminanceAdjustmentOrange | 0 |
LuminanceAdjustmentPurple | 0 |
LuminanceAdjustmentRed | +24 |
LuminanceAdjustmentYellow | 0 |
LuminanceSmoothing | 0 |
Make | NIKON CORPORATION |
Marked | True |
MaxApertureValue | 2.8 |
Megapixels | 9.0 |
MeteringMode | Spot |
Model | NIKON D700 |
ModifyDate (1) | 2009:08:14 21:39:36+02:00 |
ModifyDate | 2009:08:14 21:39:36 |
ParametricDarks | 0 |
ParametricHighlights | 0 |
ParametricHighlightSplit | 75 |
ParametricLights | 0 |
ParametricMidtoneSplit | 50 |
ParametricShadows | 0 |
ParametricShadowSplit | 25 |
PostCropVignetteAmount | 0 |
ProfileDescription | Adobe RGB (1998) |
RedHue | 0 |
RedSaturation | 0 |
Rights | Johan Conradson |
Saturation (2) | 0 |
Saturation | Normal |
SaturationAdjustmentAqua | 0 |
SaturationAdjustmentBlue | 0 |
SaturationAdjustmentGreen | 0 |
SaturationAdjustmentMagenta | 0 |
SaturationAdjustmentOrange | 0 |
SaturationAdjustmentPurple | 0 |
SaturationAdjustmentRed | +29 |
SaturationAdjustmentYellow | 0 |
ScaleFactor35efl | 1.0 |
SceneCaptureType | Standard |
SceneType | Directly photographed |
SensingMethod | One-chip color area |
SerialNumber | 2150811 |
Shadows | 4 |
ShadowTint | 0 |
SharpenDetail | 25 |
SharpenEdgeMasking | 0 |
SharpenRadius | +1.0 |
Sharpness (2) | 25 |
Sharpness | Normal |
ShutterSpeed | 1/400 |
ShutterSpeedValue | 1/400 |
Software | Ver.1.00 |
SplitToningBalance | 0 |
SplitToningHighlightHue | 0 |
SplitToningHighlightSaturation | 0 |
SplitToningShadowHue | 0 |
SplitToningShadowSaturation | 0 |
Subject | Sommer, Tuscany, ferie, italia |
SubjectDistanceRange | Unknown |
Tint | -8 |
ToneCurve | 0, 0, 32, 16, 64, 50, 128, 128, 192, 202, 255, 255 |
ToneCurveName | Strong Contrast |
Version | 5.4 |
Vibrance | 0 |
VignetteAmount | 0 |
WhiteBalance (2) | As Shot |
WhiteBalance | Manual |