Felt | Verdi |
AlreadyApplied | True |
Aperture | 4.0 |
ApertureValue | 4.0 |
BitsPerSample | 8 |
BlueHue | 0 |
BlueSaturation | 0 |
Brightness | 0 |
By-line | Pierre Chaton |
CameraProfile | Embedded |
ChromaticAberrationB | 0 |
ChromaticAberrationR | 0 |
CircleOfConfusion | 0.031 mm |
Clarity | +50 |
ColorComponents | 3 |
ColorNoiseReduction | 0 |
ColorSpace | sRGB |
Contrast | 0 |
ConvertToGrayscale | False |
Copyright | Pierre Chaton |
CopyrightFlag | True |
CopyrightNotice | Pierre Chaton |
CreateDate (1) | 2008:09:20 14:11:23+02:00 |
CreateDate | 2008:09:20 14:11:23 |
Creator | Pierre Chaton |
CreatorTool | Adobe Photoshop Lightroom |
CreatorWorkEmail | chatonpi@gmail.com |
CreatorWorkURL | http://www.p-chaton.net/ |
DateTimeDigitized | 2008:09:20 14:11:23+02:00 |
DateTimeOriginal (1) | 2008:09:20 14:11:23+02:00 |
DateTimeOriginal | 2008:09:20 14:11:23 |
Defringe | 0 |
ExifImageHeight | 931 |
ExifImageWidth | 885 |
Exposure | 0.00 |
FillLight | 0 |
FNumber | 4.0 |
FocalLength | 15.4 mm |
FocalLength35efl | 15.4 mm (35 mm equivalent: 15.0 mm) |
FocalLengthIn35mmFormat | 15 mm |
Format | image/tiff |
FOV | 100.4 deg |
GPSLatitude | 60 deg 4' 57.00" N |
GPSLatitudeRef | North |
GPSLongitude | 9 deg 50' 29.00" E |
GPSLongitudeRef | East |
GPSPosition | 60 deg 4' 57.00" N, 9 deg 50' 29.00" E |
GreenHue | +100 |
GreenSaturation | +78 |
HasCrop | False |
HasSettings | True |
HighlightRecovery | 82 |
HueAdjustmentAqua | 0 |
HueAdjustmentBlue | 0 |
HueAdjustmentGreen | 0 |
HueAdjustmentMagenta | 0 |
HueAdjustmentOrange | 0 |
HueAdjustmentPurple | 0 |
HueAdjustmentRed | 0 |
HueAdjustmentYellow | 0 |
HyperfocalDistance | 1.92 m |
ImageHeight | 931 |
ImageSize | 885x931 |
ImageWidth | 885 |
IncrementalTemperature | 0 |
IncrementalTint | 0 |
ISO | 200 |
Keywords | Krøderen, champignon, forest, forêt, landscape, landskap, mushroom, norge, norvege, norway, paysage, skog, sopp |
LuminanceAdjustmentAqua | 0 |
LuminanceAdjustmentBlue | -35 |
LuminanceAdjustmentGreen | 0 |
LuminanceAdjustmentMagenta | 0 |
LuminanceAdjustmentOrange | -40 |
LuminanceAdjustmentPurple | 0 |
LuminanceAdjustmentRed | 0 |
LuminanceAdjustmentYellow | +73 |
LuminanceSmoothing | 0 |
Marked | True |
Megapixels | 0.824 |
ModifyDate (1) | 2008:09:29 22:10:08+02:00 |
ModifyDate | 2008:09:29 22:10:08 |
ObjectName | Fungi perspecive |
OriginalTransmissionReference | http://www.p-chaton.net/ |
PaintCorrectionActive | true |
PaintCorrectionAmount | 1.000000 |
PaintCorrectionBrightness (3) | -0.106000 |
PaintCorrectionBrightness (5) | 0.089000 |
PaintCorrectionBrightness | 0.000000 |
PaintCorrectionClarity (1) | 0.171000 |
PaintCorrectionClarity (2) | -1.000000 |
PaintCorrectionClarity (3) | 0.756000 |
PaintCorrectionClarity (4) | -0.831607 |
PaintCorrectionClarity | 0.000000 |
PaintCorrectionContrast (3) | 0.057000 |
PaintCorrectionContrast (5) | -0.382000 |
PaintCorrectionContrast | 0.000000 |
PaintCorrectionExposure (3) | 0.024000 |
PaintCorrectionExposure (4) | -0.915803 |
PaintCorrectionExposure (5) | -0.317000 |
PaintCorrectionExposure | 0.000000 |
PaintCorrectionHue (1) | 175.862000 |
PaintCorrectionHue (5) | 63.116901 |
PaintCorrectionHue (6) | 30.612200 |
PaintCorrectionHue | 210.000000 |
PaintCorrectionMaskCenterWeight | 0.000000 |
PaintCorrectionMaskFlow (13) | 0.260000 |
PaintCorrectionMaskFlow (14) | 0.453000 |
PaintCorrectionMaskFlow (6) | 1.000000 |
PaintCorrectionMaskFlow (9) | 0.493000 |
PaintCorrectionMaskFlow | 0.211000 |
PaintCorrectionMaskRadius (10) | 0.425734 |
PaintCorrectionMaskRadius (11) | 0.265069 |
PaintCorrectionMaskRadius (13) | 0.220607 |
PaintCorrectionMaskRadius (15) | 0.017893 |
PaintCorrectionMaskRadius (2) | 0.386463 |
PaintCorrectionMaskRadius (22) | 0.119689 |
PaintCorrectionMaskRadius (23) | 0.092266 |
PaintCorrectionMaskRadius (24) | 0.083417 |
PaintCorrectionMaskRadius (27) | 0.066158 |
PaintCorrectionMaskRadius (32) | 0.138702 |
PaintCorrectionMaskRadius (4) | 0.231503 |
PaintCorrectionMaskRadius (6) | 0.158301 |
PaintCorrectionMaskRadius (7) | 0.074715 |
PaintCorrectionMaskRadius | 0.129123 |
PaintCorrectionMaskValue (10) | 0.472000 |
PaintCorrectionMaskValue (3) | 0.000000 |
PaintCorrectionMaskValue | 1.000000 |
PaintCorrectionMaskWhat | Mask/Paint |
PaintCorrectionSaturation (10) | 0.663793 |
PaintCorrectionSaturation (12) | 0.821229 |
PaintCorrectionSaturation (5) | -0.350000 |
PaintCorrectionSaturation (6) | 0.000000 |
PaintCorrectionSaturation | 0.431000 |
PaintCorrectionSharpness (1) | 0.057000 |
PaintCorrectionSharpness (4) | -1.000000 |
PaintCorrectionSharpness | 0.000000 |
PaintCorrectionWhat | Correction |
ParametricDarks | -7 |
ParametricHighlights | -35 |
ParametricHighlightSplit | 75 |
ParametricLights | +20 |
ParametricMidtoneSplit | 50 |
ParametricShadows | -13 |
ParametricShadowSplit | 25 |
PostCropVignetteAmount | -17 |
PostCropVignetteFeather | 49 |
PostCropVignetteMidpoint | 73 |
PostCropVignetteRoundness | -23 |
ProfileDescription | sRGB IEC61966-2.1 |
RedHue | +39 |
RedSaturation | -51 |
Rights | Pierre Chaton |
Saturation | 0 |
SaturationAdjustmentAqua | 0 |
SaturationAdjustmentBlue | -39 |
SaturationAdjustmentGreen | +6 |
SaturationAdjustmentMagenta | 0 |
SaturationAdjustmentOrange | +56 |
SaturationAdjustmentPurple | 0 |
SaturationAdjustmentRed | 0 |
SaturationAdjustmentYellow | +42 |
ScaleFactor35efl | 1.0 |
Shadows | 0 |
ShadowTint | 0 |
SharpenDetail | 39 |
SharpenEdgeMasking | 0 |
SharpenRadius | +1.0 |
Sharpness | 37 |
Software | Adobe Photoshop CS2 Windows |
SplitToningBalance | 0 |
SplitToningHighlightHue | 0 |
SplitToningHighlightSaturation | 0 |
SplitToningShadowHue | 0 |
SplitToningShadowSaturation | 0 |
Subject | Krøderen, champignon, forest, forêt, landscape, landskap, mushroom, norge, norvege, norway, paysage, skog, sopp |
Title | Fungi perspecive |
ToneCurve | 0, 0, 255, 255 |
ToneCurveName | Linear |
TransmissionReference | http://www.p-chaton.net/ |
URL | http://www.p-chaton.net/ |
Version | 4.6 |
Vibrance | +25 |
VignetteAmount | -89 |
VignetteMidpoint | 27 |
WebStatement | http://www.p-chaton.net/ |
WhiteBalance | As Shot |