Felt | Verdi |
AlreadyApplied | True |
Aperture | 5.6 |
ApertureValue | 5.6 |
ApproximateFocusDistance | 4294967295 |
Artist | Mikkel Nordbaek |
AutoLateralCA | 1 |
AutoWhiteVersion | 134348800 |
BitsPerSample | 8 |
Blacks2012 | -31 |
BlueHue | 0 |
BlueSaturation | 0 |
By-line | Mikkel Nordbaek |
CameraProfile | Adobe Standard |
CircGradBasedCorrActive | true |
CircGradBasedCorrAmount | 1.000000 |
CircGradBasedCorrBrightness | 0.000000 |
CircGradBasedCorrClarity2012 | 0.000000 |
CircGradBasedCorrContrast2012 | 0.000000 |
CircGradBasedCorrDefringe | 0.000000 |
CircGradBasedCorrExposure2012 (1) | 0.308750 |
CircGradBasedCorrExposure2012 (11) | 0.147000 |
CircGradBasedCorrExposure2012 (12) | -0.058750 |
CircGradBasedCorrExposure2012 (13) | 0.044000 |
CircGradBasedCorrExposure2012 (14) | -0.044000 |
CircGradBasedCorrExposure2012 (15) | -0.132250 |
CircGradBasedCorrExposure2012 (16) | 0.000000 |
CircGradBasedCorrExposure2012 (17) | -0.073500 |
CircGradBasedCorrExposure2012 (18) | 0.294000 |
CircGradBasedCorrExposure2012 (2) | 0.176500 |
CircGradBasedCorrExposure2012 (3) | 0.235250 |
CircGradBasedCorrExposure2012 (4) | 0.073500 |
CircGradBasedCorrExposure2012 (5) | 0.132250 |
CircGradBasedCorrExposure2012 (6) | 0.456000 |
CircGradBasedCorrExposure2012 (7) | 0.279500 |
CircGradBasedCorrExposure2012 | 0.058750 |
CircGradBasedCorrHighlights2012 | 0.000000 |
CircGradBasedCorrHue (1) | 60.000000 |
CircGradBasedCorrHue (11) | 37.000000 |
CircGradBasedCorrHue (13) | 58.000000 |
CircGradBasedCorrHue (16) | 36.000000 |
CircGradBasedCorrHue (2) | 57.000000 |
CircGradBasedCorrHue (3) | 49.000000 |
CircGradBasedCorrHue (8) | 53.000000 |
CircGradBasedCorrHue | 0.000000 |
CircGradBasedCorrLocalBlacks2012 | 0.000000 |
CircGradBasedCorrLocalDehaze | 0.000000 |
CircGradBasedCorrLocalWhites2012 | 0.000000 |
CircGradBasedCorrLuminanceNoise | 0.000000 |
CircGradBasedCorrMaskAngle (12) | 23.184100 |
CircGradBasedCorrMaskAngle (14) | 0.000000 |
CircGradBasedCorrMaskAngle (15) | -18.359200 |
CircGradBasedCorrMaskAngle (17) | -34.941000 |
CircGradBasedCorrMaskAngle (18) | -40.054600 |
CircGradBasedCorrMaskAngle (19) | -10.589600 |
CircGradBasedCorrMaskAngle (4) | -41.559300 |
CircGradBasedCorrMaskAngle (5) | 37.437500 |
CircGradBasedCorrMaskAngle (6) | 27.025900 |
CircGradBasedCorrMaskAngle (7) | -18.961000 |
CircGradBasedCorrMaskAngle (8) | -34.345900 |
CircGradBasedCorrMaskAngle (9) | 38.224100 |
CircGradBasedCorrMaskAngle | 25.100900 |
CircGradBasedCorrMaskBottom (1) | 0.660537 |
CircGradBasedCorrMaskBottom (10) | 0.597576 |
CircGradBasedCorrMaskBottom (11) | 1.009740 |
CircGradBasedCorrMaskBottom (12) | 1.086360 |
CircGradBasedCorrMaskBottom (13) | 0.549117 |
CircGradBasedCorrMaskBottom (14) | 0.251908 |
CircGradBasedCorrMaskBottom (15) | 0.756092 |
CircGradBasedCorrMaskBottom (16) | 0.698326 |
CircGradBasedCorrMaskBottom (17) | 0.250938 |
CircGradBasedCorrMaskBottom (18) | 0.089445 |
CircGradBasedCorrMaskBottom (19) | 1.162370 |
CircGradBasedCorrMaskBottom (2) | 0.606500 |
CircGradBasedCorrMaskBottom (3) | 0.777717 |
CircGradBasedCorrMaskBottom (4) | 0.376742 |
CircGradBasedCorrMaskBottom (5) | 1.141040 |
CircGradBasedCorrMaskBottom (6) | 1.194900 |
CircGradBasedCorrMaskBottom (7) | 0.472499 |
CircGradBasedCorrMaskBottom (8) | 0.630092 |
CircGradBasedCorrMaskBottom (9) | 0.577056 |
CircGradBasedCorrMaskBottom | 0.432216 |
CircGradBasedCorrMaskFeather | +100 |
CircGradBasedCorrMaskFlipped | true |
CircGradBasedCorrMaskLeft (1) | 0.529720 |
CircGradBasedCorrMaskLeft (10) | 0.481266 |
CircGradBasedCorrMaskLeft (11) | 0.282999 |
CircGradBasedCorrMaskLeft (12) | 0.215082 |
CircGradBasedCorrMaskLeft (13) | 0.228607 |
CircGradBasedCorrMaskLeft (14) | 0.057331 |
CircGradBasedCorrMaskLeft (15) | -0.048797 |
CircGradBasedCorrMaskLeft (16) | 0.380061 |
CircGradBasedCorrMaskLeft (17) | 0.216269 |
CircGradBasedCorrMaskLeft (18) | 0.780756 |
CircGradBasedCorrMaskLeft (19) | 0.813998 |
CircGradBasedCorrMaskLeft (2) | 0.396221 |
CircGradBasedCorrMaskLeft (3) | 0.776521 |
CircGradBasedCorrMaskLeft (4) | 0.447990 |
CircGradBasedCorrMaskLeft (5) | 0.702832 |
CircGradBasedCorrMaskLeft (6) | 0.713255 |
CircGradBasedCorrMaskLeft (7) | 0.563258 |
CircGradBasedCorrMaskLeft (8) | 0.429201 |
CircGradBasedCorrMaskLeft (9) | 0.401482 |
CircGradBasedCorrMaskLeft | 0.366636 |
CircGradBasedCorrMaskMidpoint | +50 |
CircGradBasedCorrMaskRight (1) | 0.800334 |
CircGradBasedCorrMaskRight (10) | 0.649707 |
CircGradBasedCorrMaskRight (11) | 0.405561 |
CircGradBasedCorrMaskRight (12) | 0.245330 |
CircGradBasedCorrMaskRight (13) | 0.434529 |
CircGradBasedCorrMaskRight (14) | 0.319674 |
CircGradBasedCorrMaskRight (15) | 0.235154 |
CircGradBasedCorrMaskRight (16) | 0.426002 |
CircGradBasedCorrMaskRight (17) | 0.388874 |
CircGradBasedCorrMaskRight (18) | 1.075590 |
CircGradBasedCorrMaskRight (19) | 1.079860 |
CircGradBasedCorrMaskRight (2) | 0.576564 |
CircGradBasedCorrMaskRight (3) | 1.054150 |
CircGradBasedCorrMaskRight (4) | 0.887256 |
CircGradBasedCorrMaskRight (5) | 0.576887 |
CircGradBasedCorrMaskRight (6) | 0.714854 |
CircGradBasedCorrMaskRight (7) | 0.886656 |
CircGradBasedCorrMaskRight (8) | 0.875348 |
CircGradBasedCorrMaskRight (9) | 0.690385 |
CircGradBasedCorrMaskRight | 0.437727 |
CircGradBasedCorrMaskRoundness | 0 |
CircGradBasedCorrMaskTop (1) | 0.338186 |
CircGradBasedCorrMaskTop (10) | 0.393496 |
CircGradBasedCorrMaskTop (11) | 0.706013 |
CircGradBasedCorrMaskTop (12) | 0.803072 |
CircGradBasedCorrMaskTop (13) | 0.464912 |
CircGradBasedCorrMaskTop (14) | -0.016283 |
CircGradBasedCorrMaskTop (15) | 0.324300 |
CircGradBasedCorrMaskTop (16) | 0.593728 |
CircGradBasedCorrMaskTop (17) | 0.005191 |
CircGradBasedCorrMaskTop (18) | 0.043941 |
CircGradBasedCorrMaskTop (19) | 0.711962 |
CircGradBasedCorrMaskTop (2) | 0.394772 |
CircGradBasedCorrMaskTop (3) | 0.236319 |
CircGradBasedCorrMaskTop (4) | 0.022366 |
CircGradBasedCorrMaskTop (5) | 0.515590 |
CircGradBasedCorrMaskTop (6) | 0.574936 |
CircGradBasedCorrMaskTop (7) | -0.173642 |
CircGradBasedCorrMaskTop (8) | 0.682408 |
CircGradBasedCorrMaskTop (9) | -0.027280 |
CircGradBasedCorrMaskTop | 0.280830 |
CircGradBasedCorrMaskValue | 1.000000 |
CircGradBasedCorrMaskVersion | +2 |
CircGradBasedCorrMaskWhat | Mask/CircularGradient |
CircGradBasedCorrMoire | 0.000000 |
CircGradBasedCorrSaturation (1) | 0.088240 |
CircGradBasedCorrSaturation (22) | 0.790000 |
CircGradBasedCorrSaturation (27) | -0.044120 |
CircGradBasedCorrSaturation (35) | 0.279410 |
CircGradBasedCorrSaturation (39) | 0.117650 |
CircGradBasedCorrSaturation (7) | 0.264710 |
CircGradBasedCorrSaturation | 0.000000 |
CircGradBasedCorrShadows2012 | 0.000000 |
CircGradBasedCorrSharpness | 0.000000 |
CircGradBasedCorrTemperature (1) | 0.308820 |
CircGradBasedCorrTemperature (10) | -0.705880 |
CircGradBasedCorrTemperature (13) | 0.191180 |
CircGradBasedCorrTemperature (15) | 0.000000 |
CircGradBasedCorrTemperature (16) | 0.588240 |
CircGradBasedCorrTemperature (18) | 0.500000 |
CircGradBasedCorrTemperature (3) | 0.367650 |
CircGradBasedCorrTemperature (4) | 0.235290 |
CircGradBasedCorrTemperature (6) | 0.470590 |
CircGradBasedCorrTemperature (7) | 0.426470 |
CircGradBasedCorrTemperature (8) | 0.397060 |
CircGradBasedCorrTemperature (9) | 0.676470 |
CircGradBasedCorrTemperature | 0.323530 |
CircGradBasedCorrTint (1) | 0.147060 |
CircGradBasedCorrTint (10) | -0.250000 |
CircGradBasedCorrTint (14) | 0.000000 |
CircGradBasedCorrTint (17) | -0.323530 |
CircGradBasedCorrTint (18) | 0.176470 |
CircGradBasedCorrTint (19) | 0.264710 |
CircGradBasedCorrTint (3) | 0.220590 |
CircGradBasedCorrTint (4) | 0.411760 |
CircGradBasedCorrTint (5) | 0.426470 |
CircGradBasedCorrTint (6) | 0.588240 |
CircGradBasedCorrTint (7) | 0.058820 |
CircGradBasedCorrTint (8) | 0.308820 |
CircGradBasedCorrTint | 0.191180 |
CircGradBasedCorrWhat | Correction |
CircleOfConfusion | 0.019 mm |
Clarity2012 | -7 |
ColorComponents | 3 |
ColorNoiseReduction | 25 |
ColorNoiseReductionDetail | 50 |
ColorNoiseReductionSmoothness | 50 |
ColorSpace | sRGB |
ColorTemperature | 7221 |
ColorTransform | YCbCr |
Contrast2012 | +19 |
ConvertToGrayscale | False |
Copyright | Mikkel Nordbaek |
CopyrightNotice | Mikkel Nordbaek |
CreateDate (1) | 2016:10:19 16:01:51.60 |
CreateDate | 2016:10:19 16:01:51 |
Creator | Mikkel Nordbaek |
CropAngle | 0 |
CropBottom | 0.98212 |
CropConstrainToWarp | 0 |
CropLeft | 0 |
CropRight | 0.747871 |
CropTop | 0.020434 |
CustomRendered | Normal |
DateCreated (1) | 2016:10:19 |
DateCreated | 2016:10:19 16:01:51.60 |
DateTimeOriginal | 2016:10:19 16:01:51 |
DefringeGreenAmount | 0 |
DefringeGreenHueHi | 60 |
DefringeGreenHueLo | 40 |
DefringePurpleAmount | 0 |
DefringePurpleHueHi | 70 |
DefringePurpleHueLo | 30 |
Dehaze | 0 |
DOF | inf (28.28 m - inf) |
Exposure2012 | +0.29 |
ExposureCompensation | 0 |
ExposureMode | Manual |
ExposureProgram | Manual |
ExposureTime | 1/60 |
Firmware | 1.0.9 |
Flash | Off, Did not fire |
FlashCompensation | 0 |
FNumber | 5.6 |
FocalLength | 55.0 mm |
FocalLength35efl | 55.0 mm (35 mm equivalent: 86.5 mm) |
Format | image/jpeg |
FOV | 23.5 deg |
GradientBasedCorrActive | true |
GradientBasedCorrAmount | 1.000000 |
GradientBasedCorrBrightness | 0.000000 |
GradientBasedCorrClarity2012 | 0.000000 |
GradientBasedCorrContrast2012 | 0.000000 |
GradientBasedCorrDefringe | 0.000000 |
GradientBasedCorrExposure2012 (1) | -0.147000 |
GradientBasedCorrExposure2012 (2) | -0.073500 |
GradientBasedCorrExposure2012 | -0.117750 |
GradientBasedCorrHighlights2012 | 0.000000 |
GradientBasedCorrHue | 0.000000 |
GradientBasedCorrLocalBlacks2012 | 0.000000 |
GradientBasedCorrLocalDehaze | 0.000000 |
GradientBasedCorrLocalWhites2012 | 0.000000 |
GradientBasedCorrLuminanceNoise | 0.000000 |
GradientBasedCorrMaskFullX (1) | 0.117486 |
GradientBasedCorrMaskFullX (2) | 0.075684 |
GradientBasedCorrMaskFullX | -0.050825 |
GradientBasedCorrMaskFullY (1) | 0.116493 |
GradientBasedCorrMaskFullY (2) | 0.949640 |
GradientBasedCorrMaskFullY | 0.537508 |
GradientBasedCorrMaskValue | 1.000000 |
GradientBasedCorrMaskWhat | Mask/Gradient |
GradientBasedCorrMaskZeroX (1) | 0.402333 |
GradientBasedCorrMaskZeroX (2) | 0.437291 |
GradientBasedCorrMaskZeroX | 0.304386 |
GradientBasedCorrMaskZeroY (1) | 0.630552 |
GradientBasedCorrMaskZeroY (2) | 0.486353 |
GradientBasedCorrMaskZeroY | 0.537768 |
GradientBasedCorrMoire | 0.000000 |
GradientBasedCorrSaturation (5) | -0.044120 |
GradientBasedCorrSaturation | 0.000000 |
GradientBasedCorrShadows2012 | 0.000000 |
GradientBasedCorrSharpness (1) | 0.000000 |
GradientBasedCorrSharpness | -0.823530 |
GradientBasedCorrTemperature | 0.000000 |
GradientBasedCorrTint | 0.000000 |
GradientBasedCorrWhat | Correction |
GrainAmount | 0 |
GreenHue | 0 |
GreenSaturation | 0 |
HasCrop | True |
HasSettings | True |
Highlights2012 | -100 |
HueAdjustmentAqua | 0 |
HueAdjustmentBlue | 0 |
HueAdjustmentGreen | -23 |
HueAdjustmentMagenta | 0 |
HueAdjustmentOrange | -25 |
HueAdjustmentPurple | 0 |
HueAdjustmentRed | -23 |
HueAdjustmentYellow | -15 |
HyperfocalDistance | 28.28 m |
ImageHeight | 3877 |
ImageNumber | 0 |
ImageSize | 3324x3877 |
ImageWidth | 3324 |
ISO | 400 |
Lens | EF-S18-55mm f/3.5-5.6 III |
LensID (1) | 53 |
LensID | Canon EF-S 18-55mm f/3.5-5.6 III |
LensInfo | 18-55mm f/? |
LensManualDistortionAmount | 0 |
LensModel | EF-S18-55mm f/3.5-5.6 III |
LensProfileChromaticAberrationScale | 100 |
LensProfileDistortionScale | 100 |
LensProfileEnable | 1 |
LensProfileSetup | Custom |
LensProfileVignettingScale | 100 |
LightValue | 8.9 |
LuminanceAdjustmentAqua | 0 |
LuminanceAdjustmentBlue | 0 |
LuminanceAdjustmentGreen | +13 |
LuminanceAdjustmentMagenta | 0 |
LuminanceAdjustmentOrange | +15 |
LuminanceAdjustmentPurple | 0 |
LuminanceAdjustmentRed | +15 |
LuminanceAdjustmentYellow | +17 |
LuminanceNoiseReductionContrast | 0 |
LuminanceNoiseReductionDetail | 50 |
LuminanceSmoothing | 23 |
Make | Canon |
MaxApertureValue | 5.7 |
Megapixels | 12.9 |
MeteringMode | Multi-segment |
Model | Canon EOS 550D |
ModifyDate (1) | 2016:10:19 20:09:46+02:00 |
ModifyDate | 2016:10:19 20:09:46 |
ParametricDarks | -6 |
ParametricHighlights | +15 |
ParametricHighlightSplit | 75 |
ParametricLights | -5 |
ParametricMidtoneSplit | 50 |
ParametricShadows | -9 |
ParametricShadowSplit | 25 |
PerspectiveAspect | 0 |
PerspectiveHorizontal | 0 |
PerspectiveRotate | 0.0 |
PerspectiveScale | 100 |
PerspectiveUpright | 0 |
PerspectiveVertical | 0 |
PerspectiveX | 0.00 |
PerspectiveY | 0.00 |
PostCropVignetteAmount | -9 |
PostCropVignetteFeather | 50 |
PostCropVignetteHighlightContrast | 0 |
PostCropVignetteMidpoint | 50 |
PostCropVignetteRoundness | 0 |
PostCropVignetteStyle | 1 |
ProcessVersion | 6.7 |
ProfileDescription | sRGB IEC61966-2.1 |
RedHue | -12 |
RedSaturation | +4 |
Rights | Mikkel Nordbaek |
Saturation | +25 |
SaturationAdjustmentAqua | 0 |
SaturationAdjustmentBlue | 0 |
SaturationAdjustmentGreen | 0 |
SaturationAdjustmentMagenta | 0 |
SaturationAdjustmentOrange | +37 |
SaturationAdjustmentPurple | 0 |
SaturationAdjustmentRed | 0 |
SaturationAdjustmentYellow | +44 |
ScaleFactor35efl | 1.6 |
SceneCaptureType | Standard |
SerialNumber | 2933541025 |
Shadows2012 | +100 |
ShadowTint | 0 |
SharpenDetail | 25 |
SharpenEdgeMasking | 64 |
SharpenRadius | +1.0 |
Sharpness | 62 |
ShutterSpeed | 1/60 |
ShutterSpeedValue | 1/60 |
Software | Adobe Photoshop Lightroom 6.6.1 (Windows) |
SplitToningBalance | 0 |
SplitToningHighlightHue | 0 |
SplitToningHighlightSaturation | 0 |
SplitToningShadowHue | 0 |
SplitToningShadowSaturation | 0 |
Tint | +33 |
ToneCurve | 0, 0, 255, 255 |
ToneCurveBlue | 0, 0, 255, 255 |
ToneCurveGreen | 0, 0, 255, 255 |
ToneCurveName | Linear |
ToneCurveName2012 | Linear |
ToneCurvePV2012 | 0, 0, 255, 255 |
ToneCurvePV2012Blue | 0, 0, 255, 255 |
ToneCurvePV2012Green | 0, 0, 255, 255 |
ToneCurvePV2012Red | 0, 0, 255, 255 |
ToneCurveRed | 0, 0, 255, 255 |
ToneMapStrength | 0 |
Version | 9.6 |
Vibrance | +4 |
VignetteAmount | 0 |
WhiteBalance (1) | Custom |
WhiteBalance | Auto |
Whites2012 | +50 |